Workbook
Name Boletim: [1]Boletim_10!$A$4:$D$2730
Name Boletim: [2]Boletim_10!$A$4:$D$2730
Name Boletim_10: [1]Boletim_10!$A$2:$F$2730
Name Boletim_10: [2]Boletim_10!$A$2:$F$2730
Name OBRA: [3]Obra!$A$10:$H$399
Name OBRA: [4]Obra!$A$10:$H$399
Name Serviços: [5]Serviços!$A$3:$AF$1403
Name Serviços: [6]Serviços!$A$3:$AF$1403

Sheet TIPO 1 sapata-110 v (2)
A1: PLANILHA ORÇAMENTÁRIA
A7: PREFEITURA MUNICIPAL DE JUÍNA
A8: CONSTRUTORA: MATERIAL FORTE INCORPORADORA LTDA. PRAZO: 08 MESES DATA: 27/10/2015
A9: CNPJ: 10.505.889/0001-12
A10: END.: AV. ULISSES GUIMARÃES, N. 1052, MODULO 05, JUINA - MT
A11: RESPONSÁVEL TÉCNICO: ISAAC COSTA QUEIROZ
A12: Obra: Proinfância - Tipo 1 (CRECHE NOSSO LAR)
A13: Preço base: Sinapi mar com desoneração/2015 - SEINFRA desonerada Jul/2015 - Orse Mar/2015
A14: Local: Rua Pariri, bairro Padre Duílio | E14: BDI : 24,3 %
A15: Cidade: Juína - MT
D17: Edificação principal do Proinfância 1 | E17: un | F17: 1 | I17: =I621 -> #REF! | L17: 1867474
A19: ITEM | B19: CÓDIGO | C19: FONTE | D19: DESCRIÇÃO DOS SERVIÇOS | E19: UNID. | F19: QUANT. | G19: PR. UNIT.(R$) SEM BDI | H19: PR. UNIT.(R$) COM BDI | I19: VALOR (R$) | J19: PR. UNIT.(R$) SEM BDI | K19: PR. UNIT.(R$) COM BDI | L19: VALOR (R$) | N19: PREÇO UNIT.(R$) MÃO DE OBRA | O19: VALOR (R$)
A21: 1 | D21: SERVIÇOS PRELIMINARES | I21: =I30 -> #REF! | L21: =L30 -> 25829.93 | M21: =M30 -> #REF! | O21: =O30 -> 6234.268
A22: 1.1 | B22: 74209/1 | C22: SINAPI | D22: Placa da obra - padrão Governo Federal | E22: m² | F22: 6 | G22: 337.72 | H22: =ROUND(G22*#REF!,2) -> #REF! | I22: =ROUND(F22*H22,2) -> #REF! | J22: =TRUNC(G22-(G22*0.069998),2) -> 314.08 | K22: =TRUNC(J22+(J22*0.243),2) -> 390.4 | L22: =TRUNC(K22*F22,2) -> 2342.4 | M22: =TRUNC(I22-(I22*0.07),2) -> #REF! | N22: =J22*0.3 -> 94.224 | O22: =N22*F22 -> 565.344
A23: 1.2 | B23: C2851 | C23: SEINFRA | D23: Instalação provisória de água | E23: un | F23: 1 | G23: 878.32 | H23: =ROUND(G23*#REF!,2) -> #REF! | I23: =ROUND(F23*H23,2) -> #REF! | J23: =TRUNC(G23-(G23*0.069998),2) -> 816.83 | K23: =TRUNC(J23+(J23*0.243),2) -> 1015.31 | L23: =TRUNC(K23*F23,2) -> 1015.31 | M23: =TRUNC(I23-(I23*0.07),2) -> #REF! | N23: =J23*0.3 -> 245.049 | O23: =N23*F23 -> 245.049
A24: 1.3 | B24: 73960/1 | C24: SINAPI | D24: Instalação provisória de energia elétrica em baixa tensão | E24: un | F24: 1 | G24: 1168.34 | H24: =ROUND(G24*#REF!,2) -> #REF! | I24: =ROUND(F24*H24,2) -> #REF! | J24: =TRUNC(G24-(G24*0.069998),2) -> 1086.55 | K24: =TRUNC(J24+(J24*0.243),2) -> 1350.58 | L24: =TRUNC(K24*F24,2) -> 1350.58 | M24: =TRUNC(I24-(I24*0.07),2) -> #REF! | N24: =J24*0.3 -> 325.965 | O24: =N24*F24 -> 325.965
A25: 1.4 | B25: C2849 | C25: SEINFRA | D25: Instalações provisórias de esgoto | E25: un | F25: 1 | G25: 206 | H25: =ROUND(G25*#REF!,2) -> #REF! | I25: =ROUND(F25*H25,2) -> #REF! | J25: =TRUNC(G25-(G25*0.069998),2) -> 191.58 | K25: =TRUNC(J25+(J25*0.243),2) -> 238.13 | L25: =TRUNC(K25*F25,2) -> 238.13 | M25: =TRUNC(I25-(I25*0.07),2) -> #REF! | N25: =J25*0.3 -> 57.474 | O25: =N25*F25 -> 57.474
A26: 1.5 | B26: 73805/1 | C26: SINAPI | D26: Barracões provisórios (depósito, escritório, vestiário e refeitório) com piso cimentado | E26: m² | F26: 40 | G26: 256.77 | H26: =ROUND(G26*#REF!,2) -> #REF! | I26: =ROUND(F26*H26,2) -> #REF! | J26: =TRUNC(G26-(G26*0.069998),2) -> 238.79 | K26: =TRUNC(J26+(J26*0.243),2) -> 296.81 | L26: =TRUNC(K26*F26,2) -> 11872.4 | M26: =TRUNC(I26-(I26*0.07),2) -> #REF! | N26: =J26*0.3 -> 71.637 | O26: =N26*F26 -> 2865.48
A27: 1.6 | B27: 74077/2 | C27: SINAPI | D27: Locação da obra (execução de gabarito) | E27: m² | F27: 1510.23 | G27: 3.06 | H27: =ROUND(G27*#REF!,2) -> #REF! | I27: =ROUND(F27*H27,2) -> #REF! | J27: =TRUNC(G27-(G27*0.069998),2) -> 2.84 | K27: =TRUNC(J27+(J27*0.243),2) -> 3.53 | L27: =TRUNC(K27*F27,2) -> 5331.11 | M27: =TRUNC(I27-(I27*0.07),2) -> #REF! | N27: =J27*0.3 -> 0.852 | O27: =N27*F27 -> 1286.716
A28: 1.7 | B28: C2290 | C28: SEINFRA | D28: Sondagem do terreno ( um furo de 7m a cada 200 m²) | E28: m | F28: 56 | G28: 50.57 | H28: =ROUND(G28*#REF!,2) -> #REF! | I28: =ROUND(F28*H28,2) -> #REF! | M28: =TRUNC(I28-(I28*0.07),2) -> #REF! | N28: =J28*0.3 -> 0 | O28: =N28*F28 -> 0
A29: 1.8 | B29: 74220/1 | C29: SINAPI | D29: Tapume de chapa de madeira compensada, 6mm (40x2,00m, frente do terreno) | E29: m² | F29: 80 | G29: 39.8 | H29: =ROUND(G29*#REF!,2) -> #REF! | I29: =ROUND(F29*H29,2) -> #REF! | J29: =TRUNC(G29-(G29*0.069998),2) -> 37.01 | K29: =TRUNC(J29+(J29*0.243),2) -> 46 | L29: =TRUNC(K29*F29,2) -> 3680 | M29: =TRUNC(I29-(I29*0.07),2) -> #REF! | N29: =J29*0.3 -> 11.103 | O29: =N29*F29 -> 888.24
G30: Subtotal | I30: =SUM(I22:I29) -> #REF! | L30: =SUM(L22:L29) -> 25829.93 | M30: =TRUNC(I30-(I30*0.07),2) -> #REF! | N30: =J30*0.3 -> 0 | O30: =SUM(O22:O29) -> 6234.268
J31: =TRUNC(G31-(G31*0.069998),2) -> 0 | K31: =TRUNC(J31+(J31*0.243),2) -> 0 | L31: =TRUNC(K31*F31,2) -> 0 | M31: =TRUNC(I31-(I31*0.07),2) -> 0 | N31: =J31*0.3 -> 0 | O31: =N31*F31 -> 0
A32: 2 | D32: MOVIMENTO DE TERRAS PARA FUNDAÇÕES | I32: =I45 -> #REF! | L32: =L45 -> 10299.84 | M32: =M45 -> #REF! | N32: =J32*0.3 -> 0 | O32: =O45 -> 2486.4264
A33: 2.1 | B33: 79488 | C33: SINAPI | D33: Aterro apiloado em camadas de 0,20 m com material argilo - arenoso (entre baldrames) | E33: m³ | F33: 298.47 | G33: 5.6 | H33: =ROUND(G33*#REF!,2) -> #REF! | I33: =ROUND(F33*H33,2) -> #REF! | J33: =TRUNC(G33-(G33*0.069998),2) -> 5.2 | K33: =TRUNC(J33+(J33*0.243),2) -> 6.46 | L33: =TRUNC(K33*F33,2) -> 1928.11 | M33: =TRUNC(I33-(I33*0.07),2) -> #REF! | N33: =J33*0.3 -> 1.56 | O33: =N33*F33 -> 465.6132
A34: 2.2 | B34: 79517/1 | C34: SINAPI | D34: Escavação manual de valas em qualquer terreno exceto rocha até h=1,50 m | E34: m³ | F34: 146.87 | G34: 22.58 | H34: =ROUND(G34*#REF!,2) -> #REF! | I34: =ROUND(F34*H34,2) -> #REF! | J34: =TRUNC(G34-(G34*0.069998),2) -> 20.99 | K34: =TRUNC(J34+(J34*0.243),2) -> 26.09 | L34: =TRUNC(K34*F34,2) -> 3831.83 | M34: =TRUNC(I34-(I34*0.07),2) -> #REF! | N34: =J34*0.3 -> 6.297 | O34: =N34*F34 -> 924.84039
A35: 2.3 | B35: 76444/1 | C35: SINAPI | D35: Regularização e compactação do fundo de valas | E35: m² | F35: 298.47 | G35: 10.28 | H35: =ROUND(G35*#REF!,2) -> #REF! | I35: =ROUND(F35*H35,2) -> #REF! | J35: =TRUNC(G35-(G35*0.069998),2) -> 9.56 | K35: =TRUNC(J35+(J35*0.243),2) -> 11.88 | L35: =TRUNC(K35*F35,2) -> 3545.82 | M35: =TRUNC(I35-(I35*0.07),2) -> #REF! | N35: =J35*0.3 -> 2.868 | O35: =N35*F35 -> 856.01196
A36: 2.4 | B36: 79490 | C36: SINAPI | D36: Reaterro apiloado de vala com material da obra | E36: m³ | F36: 98.77 | G36: 1.51 | H36: =ROUND(G36*#REF!,2) -> #REF! | I36: =ROUND(F36*H36,2) -> #REF! | J36: =TRUNC(G36-(G36*0.069998),2) -> 1.4 | K36: =TRUNC(J36+(J36*0.243),2) -> 1.74 | L36: =TRUNC(K36*F36,2) -> 171.85 | M36: =TRUNC(I36-(I36*0.07),2) -> #REF! | N36: =J36*0.3 -> 0.42 | O36: =N36*F36 -> 41.4834
D37: MURETA | F37: 0 | J37: =TRUNC(G37-(G37*0.069998),2) -> 0 | K37: =TRUNC(J37+(J37*0.243),2) -> 0 | L37: =TRUNC(K37*F37,2) -> 0 | M37: =TRUNC(I37-(I37*0.07),2) -> 0 | N37: =J37*0.3 -> 0 | O37: =N37*F37 -> 0
A38: 2.5 | B38: 79517/1 | C38: SINAPI | D38: Escavação manual de valas em qualquer terreno exceto rocha até h=1,50 m | E38: m³ | F38: 11.26 | G38: 22.58 | H38: =ROUND(G38*#REF!,2) -> #REF! | I38: =ROUND(F38*H38,2) -> #REF! | J38: =TRUNC(G38-(G38*0.069998),2) -> 20.99 | K38: =TRUNC(J38+(J38*0.243),2) -> 26.09 | L38: =TRUNC(K38*F38,2) -> 293.77 | M38: =TRUNC(I38-(I38*0.07),2) -> #REF! | N38: =J38*0.3 -> 6.297 | O38: =N38*F38 -> 70.90422
A39: 2.6 | B39: 76444/1 | C39: SINAPI | D39: Regularização e compactação do fundo de valas | E39: m² | F39: 17.74 | G39: 10.28 | H39: =ROUND(G39*#REF!,2) -> #REF! | I39: =ROUND(F39*H39,2) -> #REF! | J39: =TRUNC(G39-(G39*0.069998),2) -> 9.56 | K39: =TRUNC(J39+(J39*0.243),2) -> 11.88 | L39: =TRUNC(K39*F39,2) -> 210.75 | M39: =TRUNC(I39-(I39*0.07),2) -> #REF! | N39: =J39*0.3 -> 2.868 | O39: =N39*F39 -> 50.87832
A40: 2.7 | B40: 79490 | C40: SINAPI | D40: Reaterro apiloado de vala com material da obra | E40: m³ | F40: 6.39 | G40: 1.51 | H40: =ROUND(G40*#REF!,2) -> #REF! | I40: =ROUND(F40*H40,2) -> #REF! | J40: =TRUNC(G40-(G40*0.069998),2) -> 1.4 | K40: =TRUNC(J40+(J40*0.243),2) -> 1.74 | L40: =TRUNC(K40*F40,2) -> 11.11 | M40: =TRUNC(I40-(I40*0.07),2) -> #REF! | N40: =J40*0.3 -> 0.42 | O40: =N40*F40 -> 2.6838
D41: CASTELO D'ÁGUA | F41: 0 | J41: =TRUNC(G41-(G41*0.069998),2) -> 0 | K41: =TRUNC(J41+(J41*0.243),2) -> 0 | L41: =TRUNC(K41*F41,2) -> 0 | M41: =TRUNC(I41-(I41*0.07),2) -> 0 | N41: =J41*0.3 -> 0 | O41: =N41*F41 -> 0
A42: 2.8 | B42: 79517/1 | C42: SINAPI | D42: Escavação manual de valas em qualquer terreno exceto rocha até h=1,50 m | E42: m³ | F42: 5.78 | G42: 22.58 | H42: =ROUND(G42*#REF!,2) -> #REF! | I42: =ROUND(F42*H42,2) -> #REF! | J42: =TRUNC(G42-(G42*0.069998),2) -> 20.99 | K42: =TRUNC(J42+(J42*0.243),2) -> 26.09 | L42: =TRUNC(K42*F42,2) -> 150.8 | M42: =TRUNC(I42-(I42*0.07),2) -> #REF! | N42: =J42*0.3 -> 6.297 | O42: =N42*F42 -> 36.39666
A43: 2.9 | B43: 76444/1 | C43: SINAPI | D43: Regularização e compactação do fundo de valas | E43: m² | F43: 12.96 | G43: 10.28 | H43: =ROUND(G43*#REF!,2) -> #REF! | I43: =ROUND(F43*H43,2) -> #REF! | J43: =TRUNC(G43-(G43*0.069998),2) -> 9.56 | K43: =TRUNC(J43+(J43*0.243),2) -> 11.88 | L43: =TRUNC(K43*F43,2) -> 153.96 | M43: =TRUNC(I43-(I43*0.07),2) -> #REF! | N43: =J43*0.3 -> 2.868 | O43: =N43*F43 -> 37.16928
A44: 2.10 | B44: 79490 | C44: SINAPI | D44: Reaterro apiloado de vala com material da obra | E44: m³ | F44: 1.06 | G44: 1.51 | H44: =ROUND(G44*#REF!,2) -> #REF! | I44: =ROUND(F44*H44,2) -> #REF! | J44: =TRUNC(G44-(G44*0.069998),2) -> 1.4 | K44: =TRUNC(J44+(J44*0.243),2) -> 1.74 | L44: =TRUNC(K44*F44,2) -> 1.84 | M44: =TRUNC(I44-(I44*0.07),2) -> #REF! | N44: =J44*0.3 -> 0.42 | O44: =N44*F44 -> 0.4452
G45: Subtotal | I45: =SUM(I33:I44) -> #REF! | L45: =SUM(L33:L44) -> 10299.84 | M45: =TRUNC(I45-(I45*0.07),2) -> #REF! | N45: =J45*0.3 -> 0 | O45: =SUM(O33:O44) -> 2486.4264
J46: =TRUNC(G46-(G46*0.069998),2) -> 0 | K46: =TRUNC(J46+(J46*0.243),2) -> 0 | L46: =TRUNC(K46*F46,2) -> 0 | M46: =TRUNC(I46-(I46*0.07),2) -> 0 | N46: =J46*0.3 -> 0 | O46: =N46*F46 -> 0
A47: 3 | D47: FUNDAÇÕES | I47: =I78 -> #REF! | L47: =L78 -> 96097.83 | M47: =M78 -> #REF! | N47: =J47*0.3 -> 0 | O47: =O78 -> 23198.11
D48: CONCRETO ARMADO PARA FUNDAÇÕES - SAPATAS | F48: 0 | J48: =TRUNC(G48-(G48*0.069998),2) -> 0 | K48: =TRUNC(J48+(J48*0.243),2) -> 0 | L48: =TRUNC(K48*F48,2) -> 0 | M48: =TRUNC(I48-(I48*0.07),2) -> 0 | N48: =J48*0.3 -> 0 | O48: =N48*F48 -> 0
...

Sheet Cronograma
A1: ='Planilha Orçamentária'!A1:K1 -> PREFEITURA MUNICIPAL DE JUÍNA
A2: CRONOGRAMA FÍSICO-FINANCEIRO
A3: ='Planilha Orçamentária'!A2:K2 -> Obra: Proinfância - Tipo 1 (CRECHE NOSSO LAR)
A4: ='Planilha Orçamentária'!A3:K3 -> Preço base: Sinapi outubro/2022 não desonerado
A5: ='Planilha Orçamentária'!A4:D4 -> Local: Rua Pariri, bairro Padre Duílio
A6: ='Planilha Orçamentária'!A5:D5 -> Cidade: Juína - MT
A7: Obra: Proinfância - Tipo 1 (CRECHE NOSSO LAR)
A9: Item | B9: Discriminação dos serviços | F9: Peso (%) | G9: Valor das obras/serviços (R$) | H9: Mês 01 | J9: Mês 02 | L9: Mês 03 | N9: Mês 04 | P9: Mês 05 | R9: Mês 06 | T9: Mês 07 | V9: Mês 08 | X9: Mês 09
H10: Concedente R$ | I10: % | J10: Concedente R$ | K10: % | L10: Concedente R$ | M10: % | N10: Concedente R$ | O10: % | P10: Concedente R$ | Q10: % | R10: Concedente R$ | S10: % | T10: Concedente R$ | U10: % | V10: Concedente R$ | W10: % | X10: Concedente R$ | Y10: %
A13: 1 | B13: ='Planilha Orçamentária'!D11 -> SERVIÇOS PRELIMINARES | F13: =G13/$G$38 -> 0.0014226554 | G13: ='Planilha Orçamentária'!K20 -> 1998.52 | H13: =I13*G13 -> 1998.52 | I13: 1 | J13: =G13*K13*0.99 -> 0 | L13: =G13*M13*0.95 -> 0 | Z13: =Y13+W13+U13+S13+Q13+O13+M13+K13+I13 -> 1 | AA13: =X13+V13+T13+R13+P13+N13+L13+J13+H13 -> 1998.52 | AB13: 3918.32
A14: 2 | B14: ='Planilha Orçamentária'!D22 -> MOVIMENTO DE TERRAS PARA FUNDAÇÕES | F14: =G14/$G$38 -> 0.0014369352 | G14: ='Planilha Orçamentária'!K35 -> 2018.58 | H14: =I14*G14 -> 1211.148 | I14: 0.6 | J14: =K14*G14 -> 807.432 | K14: 0.4 | Z14: =Y14+W14+U14+S14+Q14+O14+M14+K14+I14 -> 1 | AA14: =X14+V14+T14+R14+P14+N14+L14+J14+H14 -> 2018.58 | AB14: 5255.14
A15: 3 | B15: ='Planilha Orçamentária'!D37 -> FUNDAÇÕES | F15: =G15/$G$38 -> 0.0019274527 | G15: ='Planilha Orçamentária'!K68 -> 2707.65 | H15: =I15*G15 -> 541.53 | I15: 0.2 | J15: =K15*G15 -> 812.295 | K15: 0.3 | L15: =M15*G15 -> 541.53 | M15: 0.2 | N15: =O15*G15 -> 541.53 | O15: 0.2 | P15: =G15*Q15 -> 270.765 | Q15: 0.1 | Z15: =Y15+W15+U15+S15+Q15+O15+M15+K15+I15 -> 1 | AA15: =X15+V15+T15+R15+P15+N15+L15+J15+H15 -> 2707.65 | AB15: 16215.91
A16: 4 | B16: ='Planilha Orçamentária'!D70 -> SUPERESTRUTURA | F16: =G16/$G$38 -> 0.0044141952 | G16: ='Planilha Orçamentária'!K88 -> 6200.98 | H16: =I16*G16 -> 1240.196 | I16: 0.2 | J16: =K16*G16 -> 1240.196 | K16: 0.2 | L16: =M16*G16 -> 1240.196 | M16: 0.2 | N16: =O16*G16 -> 1860.294 | O16: 0.3 | P16: =G16*Q16 -> 620.098 | Q16: 0.1 | Z16: =Y16+W16+U16+S16+Q16+O16+M16+K16+I16 -> 1 | AA16: =X16+V16+T16+R16+P16+N16+L16+J16+H16 -> 6200.98 | AB16: 10886.57
A17: 5 | B17: ='Planilha Orçamentária'!D90 -> SISTEMA DE VEDAÇÃO VERTICAL INTERNO E EXTERNO (PAREDES) | F17: =G17/$G$38 -> 0.023275156 | G17: ='Planilha Orçamentária'!K101 -> 32696.51 | H17: =I17*G17 -> 6539.302 | I17: 0.2 | J17: =K17*G17 -> 6539.302 | K17: 0.2 | L17: =M17*G17 -> 6539.302 | M17: 0.2 | N17: =O17*G17 -> 6539.302 | O17: 0.2 | P17: =G17*Q17 -> 6539.302 | Q17: 0.2 | R17: =G17*S17 -> 0 | Z17: =Y17+W17+U17+S17+Q17+O17+M17+K17+I17 -> 1 | AA17: =X17+V17+T17+R17+P17+N17+L17+J17+H17 -> 32696.51 | AB17: 24112.14
A18: 6 | B18: ='Planilha Orçamentária'!D103 -> ESQUADRIAS | F18: =G18/$G$38 -> 0.082053284 | G18: ='Planilha Orçamentária'!K150 -> 115266.94 | H18: =I18*G18 -> 0 | J18: =K18*G18 -> 0 | L18: =M18*G18 -> 0 | N18: =O18*G18 -> 0 | P18: =G18*Q18 -> 0 | R18: =G18*S18 -> 23053.388 | S18: 0.2 | T18: =U18*G18 -> 34580.082 | U18: 0.3 | V18: =W18*G18 -> 23053.388 | W18: 0.2 | X18: =Y18*G18 -> 34580.082 | Y18: 0.3 | Z18: =Y18+W18+U18+S18+Q18+O18+M18+K18+I18 -> 1 | AA18: =X18+V18+T18+R18+P18+N18+L18+J18+H18 -> 115266.94 | AB18: 433036.97
A19: 7 | B19: ='Planilha Orçamentária'!D152 -> SISTEMAS DE COBERTURA | F19: =G19/$G$38 -> 0.01144704 | G19: ='Planilha Orçamentária'!K159 -> 16080.59 | H19: =I19*G19 -> 3216.118 | I19: 0.2 | J19: =K19*G19 -> 3216.118 | K19: 0.2 | L19: =M19*G19 -> 4824.177 | M19: 0.3 | N19: =O19*G19 -> 4824.177 | O19: 0.3 | P19: =G19*Q19 -> 0 | R19: =G19*S19 -> 0 | T19: =U19*I19*0.99 -> 0 | V19: =W19*K19*0.99 -> 0 | X19: =Y19*M19*0.99 -> 0 | Z19: =Y19+W19+U19+S19+Q19+O19+M19+K19+I19 -> 1 | AA19: =X19+V19+T19+R19+P19+N19+L19+J19+H19 -> 16080.59 | AB19: 535869.57
A20: 8 | B20: ='Planilha Orçamentária'!D161 -> IMPERMEABILIZAÇÃO | F20: =G20/$G$38 -> 0.0015944899 | G20: ='Planilha Orçamentária'!K163 -> 2239.91 | H20: =I20*G20*0.99 -> 0 | J20: =K20*G20 -> 0 | L20: =M20*G20 -> 223.991 | M20: 0.1 | N20: =O20*G20 -> 447.982 | O20: 0.2 | P20: =G20*Q20 -> 671.973 | Q20: 0.3 | R20: =G20*S20 -> 895.964 | S20: 0.4 | T20: =U20*I20*0.99 -> 0 | V20: =W20*K20*0.99 -> 0 | X20: =Y20*M20*0.99 -> 0 | Z20: =Y20+W20+U20+S20+Q20+O20+M20+K20+I20 -> 1 | AA20: =X20+V20+T20+R20+P20+N20+L20+J20+H20 -> 2239.91 | AB20: 412.18
A21: 9 | B21: ='Planilha Orçamentária'!D165 -> REVESTIMENTOS INTERNOS E EXTERNOS | F21: =G21/$G$38 -> 0.16870785 | G21: ='Planilha Orçamentária'!K178 -> 236997.67 | J21: =K21*G21 -> 23699.767 | K21: 0.1 | L21: =M21*G21 -> 47399.534 | M21: 0.2 | N21: =O21*G21 -> 47399.534 | O21: 0.2 | P21: =G21*Q21 -> 47399.534 | Q21: 0.2 | R21: =G21*S21 -> 71099.301 | S21: 0.3 | Z21: =Y21+W21+U21+S21+Q21+O21+M21+K21+I21 -> 1 | AA21: =X21+V21+T21+R21+P21+N21+L21+J21+H21 -> 236997.67 | AB21: 162800.15
A22: 10 | B22: ='Planilha Orçamentária'!D180 -> SISTEMAS DE PISOS INTERNOS E EXTERNOS (PAVIMENTAÇÃO) | F22: =G22/$G$38 -> 0.19398487 | G22: ='Planilha Orçamentária'!K201 -> 272506.37 | J22: =K22*G22 -> 0 | L22: =M22*G22 -> 54501.274 | M22: 0.2 | N22: =O22*G22 -> 81751.911 | O22: 0.3 | P22: =G22*Q22 -> 54501.274 | Q22: 0.2 | R22: =G22*S22 -> 81751.911 | S22: 0.3 | T22: =U22*G22 -> 0 | V22: =W22*G22 -> 0 | X22: =Y22*G22 -> 0 | Z22: =Y22+W22+U22+S22+Q22+O22+M22+K22+I22 -> 1 | AA22: =X22+V22+T22+R22+P22+N22+L22+J22+H22 -> 272506.37 | AB22: 152144.42
A23: 11 | B23: ='Planilha Orçamentária'!D203 -> PINTURA | F23: =G23/$G$38 -> 0.067284597 | G23: ='Planilha Orçamentária'!K210 -> 94520.16 | J23: =K23*G23 -> 0 | L23: =M23*G23 -> 0 | N23: =O23*G23 -> 0 | P23: =G23*Q23 -> 0 | R23: =G23*S23 -> 0 | T23: =U23*G23 -> 28356.048 | U23: 0.3 | V23: =W23*G23 -> 37808.064 | W23: 0.4 | X23: =Y23*G23 -> 28356.048 | Y23: 0.3 | Z23: =Y23+W23+U23+S23+Q23+O23+M23+K23+I23 -> 1 | AA23: =X23+V23+T23+R23+P23+N23+L23+J23+H23 -> 94520.16 | AB23: 78960.24
A24: 12 | B24: ='Planilha Orçamentária'!D212 -> INSTALAÇÃO HIDRÁULICA | F24: =G24/$G$38 -> 0.015104142 | G24: ='Planilha Orçamentária'!K294 -> 21218.02 | H24: =I24*G24 -> 8487.208 | I24: 0.4 | J24: =K24*G24 -> 4243.604 | K24: 0.2 | L24: =M24*G24 -> 0 | N24: =O24*G24 -> 0 | P24: =G24*Q24 -> 0 | R24: =G24*S24 -> 0 | T24: =U24*G24 -> 2121.802 | U24: 0.1 | V24: =W24*G24 -> 2121.802 | W24: 0.1 | X24: =Y24*G24 -> 4243.604 | Y24: 0.2 | Z24: =Y24+W24+U24+S24+Q24+O24+M24+K24+I24 -> 1 | AA24: =X24+V24+T24+R24+P24+N24+L24+J24+H24 -> 21218.02 | AB24: 25894.3
A25: 13 | B25: ='Planilha Orçamentária'!D296 -> DRENAGEM DE ÁGUAS PLUVIAIS | F25: =G25/$G$38 -> 0.0075300605 | G25: ='Planilha Orçamentária'!K308 -> 10578.09 | J25: =K25*G25 -> 0 | L25: =M25*G25 -> 0 | N25: =O25*G25 -> 0 | P25: =G25*Q25 -> 0 | R25: =G25*S25 -> 5289.045 | S25: 0.5 | T25: =U25*G25 -> 2115.618 | U25: 0.2 | V25: =W25*G25 -> 2115.618 | W25: 0.2 | X25: =Y25*G25 -> 1057.809 | Y25: 0.1 | Z25: =Y25+W25+U25+S25+Q25+O25+M25+K25+I25 -> 1 | AA25: =X25+V25+T25+R25+P25+N25+L25+J25+H25 -> 10578.09 | AB25: 11464.17
A26: 14 | B26: ='Planilha Orçamentária'!D310 -> INSTALAÇÃO SANITÁRIA | F26: =G26/$G$38 -> 0.012241426 | G26: ='Planilha Orçamentária'!K351 -> 17196.53 | J26: =K26*G26 -> 0 | L26: =M26*G26 -> 0 | N26: =O26*G26 -> 0 | P26: =G26*Q26 -> 1719.653 | Q26: 0.1 | R26: =G26*S26 -> 3439.306 | S26: 0.2 | T26: =U26*G26 -> 5158.959 | U26: 0.3 | V26: =W26*G26 -> 5158.959 | W26: 0.3 | X26: =Y26*G26 -> 1719.653 | Y26: 0.1 | Z26: =Y26+W26+U26+S26+Q26+O26+M26+K26+I26 -> 1 | AA26: =X26+V26+T26+R26+P26+N26+L26+J26+H26 -> 17196.53 | AB26: 28141.59
A27: 15 | B27: ='Planilha Orçamentária'!D353 -> LOUÇAS E METAIS | F27: =G27/$G$38 -> 0.0553628 | G27: ='Planilha Orçamentária'!K383 -> 77772.64 | J27: =K27*G27 -> 0 | L27: =M27*G27 -> 0 | N27: =O27*G27 -> 0 | P27: =G27*Q27 -> 0 | R27: =G27*S27 -> 0 | T27: =U27*G27 -> 0 | V27: =W27*G27 -> 31109.056 | W27: 0.4 | X27: =Y27*G27 -> 46663.584 | Y27: 0.6 | Z27: =Y27+W27+U27+S27+Q27+O27+M27+K27+I27 -> 1 | AA27: =X27+V27+T27+R27+P27+N27+L27+J27+H27 -> 77772.64 | AB27: 55922.61
A28: 16 | B28: ='Planilha Orçamentária'!D385 -> INSTALAÇÃO DE GÁS COMBUSTÍVEL | F28: =G28/$G$38 -> 0.0017001362 | G28: ='Planilha Orçamentária'!K407 -> 2388.32 | J28: =K28*G28 -> 0 | L28: =M28*G28 -> 0 | N28: =O28*G28 -> 0 | P28: =G28*Q28 -> 0 | R28: =G28*S28 -> 0 | T28: =U28*G28 -> 0 | V28: =W28*G28 -> 716.496 | W28: 0.3 | X28: =Y28*G28 -> 1671.824 | Y28: 0.7 | Z28: =Y28+W28+U28+S28+Q28+O28+M28+K28+I28 -> 1 | AA28: =X28+V28+T28+R28+P28+N28+L28+J28+H28 -> 2388.32 | AB28: 4423.57
A29: 17 | B29: ='Planilha Orçamentária'!D409 -> SISTEMA DE PROTEÇÃO CONTRA INCÊNDIO | F29: =G29/$G$38 -> 0.016489788 | G29: ='Planilha Orçamentária'!K439 -> 23164.55 | J29: =K29*G29 -> 0 | L29: =M29*G29 -> 0 | N29: =O29*G29 -> 0 | P29: =G29*Q29 -> 0 | R29: =G29*S29 -> 0 | T29: =U29*G29 -> 0 | V29: =W29*G29 -> 6949.365 | W29: 0.3 | X29: =Y29*G29 -> 16215.185 | Y29: 0.7 | Z29: =Y29+W29+U29+S29+Q29+O29+M29+K29+I29 -> 1 | AA29: =X29+V29+T29+R29+P29+N29+L29+J29+H29 -> 23164.55 | AB29: 17119.67
A30: 18 | B30: ='Planilha Orçamentária'!D441 -> INSTALAÇÕES ELÉTRICAS - 220V | F30: =G30/$G$38 -> 0.20802533 | G30: ='Planilha Orçamentária'!K516 -> 292230.14 | H30: =I30*G30*0.99 -> 0 | J30: =K30*G30 -> 0 | L30: =M30*G30 -> 29223.014 | M30: 0.1 | N30: =O30*G30 -> 58446.028 | O30: 0.2 | P30: =G30*Q30 -> 58446.028 | Q30: 0.2 | R30: =G30*S30 -> 29223.014 | S30: 0.1 | T30: =U30*G30 -> 58446.028 | U30: 0.2 | V30: =W30*G30 -> 29223.014 | W30: 0.1 | X30: =Y30*G30 -> 29223.014 | Y30: 0.1 | Z30: =Y30+W30+U30+S30+Q30+O30+M30+K30+I30 -> 1 | AA30: =X30+V30+T30+R30+P30+N30+L30+J30+H30 -> 292230.14 | AB30: 179353.69
A31: 19 | B31: ='Planilha Orçamentária'!D518 -> INSTALAÇÕES DE CLIMATIZAÇÃO | F31: =G31/$G$38 -> 0.0011937728 | G31: ='Planilha Orçamentária'!K523 -> 1676.99 | J31: =K31*G31 -> 0 | L31: =M31*G31 -> 0 | N31: =O31*G31 -> 0 | P31: =G31*Q31 -> 0 | R31: =G31*S31 -> 0 | T31: =U31*G31 -> 503.097 | U31: 0.3 | V31: =W31*G31 -> 670.796 | W31: 0.4 | X31: =Y31*G31 -> 503.097 | Y31: 0.3 | Z31: =Y31+W31+U31+S31+Q31+O31+M31+K31+I31 -> 1 | AA31: =X31+V31+T31+R31+P31+N31+L31+J31+H31 -> 1676.99 | AB31: 1166.38
A32: 20 | B32: ='Planilha Orçamentária'!D525 -> INSTALAÇÕES DE REDE ESTRUTURADA | F32: =G32/$G$38 -> 0.038525798 | G32: ='Planilha Orçamentária'!K561 -> 54120.33 | J32: =K32*G32 -> 0 | L32: =M32*G32 -> 0 | N32: =O32*G32 -> 0 | P32: =G32*Q32 -> 0 | R32: =G32*S32 -> 5412.033 | S32: 0.1 | T32: =U32*G32 -> 10824.066 | U32: 0.2 | V32: =W32*G32 -> 10824.066 | W32: 0.2 | X32: =Y32*G32 -> 27060.165 | Y32: 0.5 | Z32: =Y32+W32+U32+S32+Q32+O32+M32+K32+I32 -> 1 | AA32: =X32+V32+T32+R32+P32+N32+L32+J32+H32 -> 54120.33 | AB32: 39860.72
A33: 21 | B33: ='Planilha Orçamentária'!D563 -> SISTEMA DE EXAUSTÃO MECÂNICA | F33: =G33/$G$38 -> 0.0026328933 | G33: ='Planilha Orçamentária'!K567 -> 3698.64 | J33: =K33*G33 -> 0 | L33: =M33*G33 -> 0 | N33: =O33*G33 -> 0 | P33: =G33*Q33 -> 0 | R33: =G33*S33 -> 0 | T33: =U33*G33 -> 0 | V33: =W33*G33 -> 0 | X33: =Y33*G33 -> 3698.64 | Y33: 1 | Z33: =Y33+W33+U33+S33+Q33+O33+M33+K33+I33 -> 1 | AA33: =X33+V33+T33+R33+P33+N33+L33+J33+H33 -> 3698.64 | AB33: 1445.84
B34: ='Planilha Orçamentária'!D569 -> SISTEMA DE PROTEÇÃO CONTRA DESCARGAS ATMOSFÉRICAS (SPDA) | F34: =G34/$G$38 -> 0.0266274 | G34: ='Planilha Orçamentária'!K583 -> 37405.68 | J34: =K34*G34 -> 0 | L34: =M34*G34 -> 7481.136 | M34: 0.2 | N34: =O34*G34 -> 3740.568 | O34: 0.1 | P34: =G34*Q34 -> 3740.568 | Q34: 0.1 | R34: =G34*S34 -> 0 | T34: =U34*G34 -> 11221.704 | U34: 0.3 | V34: =W34*G34 -> 7481.136 | W34: 0.2 | X34: =Y34*G34 -> 3740.568 | Y34: 0.1 | Z34: =Y34+W34+U34+S34+Q34+O34+M34+K34+I34 -> 1 | AA34: =X34+V34+T34+R34+P34+N34+L34+J34+H34 -> 37405.68 | AB34: 26285.22
B35: ='Planilha Orçamentária'!D585 -> SERVIÇOS COMPLEMENTARES | F35: =G35/$G$38 -> 0.057017933 | G35: ='Planilha Orçamentária'!K606 -> 80097.74 | J35: =K35*G35 -> 0 | L35: =M35*G35 -> 0 | N35: =O35*G35 -> 0 | P35: =G35*Q35 -> 0 | R35: =G35*S35 -> 8009.774 | S35: 0.1 | T35: =U35*G35 -> 16019.548 | U35: 0.2 | V35: =W35*G35 -> 24029.322 | W35: 0.3 | X35: =Y35*G35 -> 32039.096 | Y35: 0.4 | Z35: =Y35+W35+U35+S35+Q35+O35+M35+K35+I35 -> 1 | AA35: =X35+V35+T35+R35+P35+N35+L35+J35+H35 -> 80097.74 | AB35: 52009.86
B36: ='Planilha Orçamentária'!D608 -> SERVIÇOS FINAIS | F36: =G36/$G$38 -> 0 | G36: ='Planilha Orçamentária'!K610 -> 0 | J36: =K36*G36 -> 0 | N36: =O36*G36 -> 0 | P36: =G36*Q36 -> 0 | R36: =G36*S36 -> 0 | T36: =U36*G36 -> 0 | V36: =W36*G36 -> 0 | X36: =Y36*G36 -> 0 | Y36: 1 | Z36: =Y36+W36+U36+S36+Q36+O36+M36+K36+I36 -> 1 | AA36: =X36+V36+T36+R36+P36+N36+L36+J36+H36 -> 0 | AB36: 3987.01
P37: =G37*Q37 -> 0 | R37: =G37*S37 -> 0
A38: Total simples | F38: =SUM(F13:F36) -> 1 | G38: =SUM(G13:G36) -> 1404781.6 | H38: =SUM(H13:H36) -> 23234.022 | I38: =(H38)/G38 -> 0.016539242 | J38: =SUM(J13:J36) -> 40558.714 | K38: =(J38)/G38 -> 0.028871901 | L38: =SUM(L13:L36) -> 151974.15 | M38: =(L38)/G38 -> 0.10818348 | N38: =SUM(N13:N36) -> 205551.33 | O38: =(N38)/G38 -> 0.14632263 | P38: =SUM(P13:P36) -> 173909.2 | Q38: =(P38)/G38 -> 0.12379803 | R38: =SUM(R13:R36) -> 228173.74 | S38: =(R38)/G38 -> 0.16242649 | T38: =SUM(T13:T36) -> 169346.95 | U38: =(T38)/G38 -> 0.12055038 | V38: =SUM(V13:V36) -> 181261.08 | W38: =(V38)/G38 -> 0.12903151 | X38: =SUM(X13:X36) -> 230772.37 | Y38: =(X38)/G38 -> 0.16427634 | AA38: =SUM(AA13:AA37) -> 1404781.6
A39: Total acumulado | F39: 100 | J39: =H38+J38 -> 63792.736 | K39: =I38+K38 -> 0.045411143 | L39: =J39+L38 -> 215766.89 | M39: =K39+M38 -> 0.15359462 | N39: =N38+L39 -> 421318.22 | O39: =O38+M39 -> 0.29991725 | P39: =N39+P38 -> 595227.41 | Q39: =O39+Q38 -> 0.42371528 | R39: =P39+R38 -> 823401.15 | S39: =Q39+S38 -> 0.58614177 | T39: =R39+T38 -> 992748.1 | U39: =S39+U38 -> 0.70669215 | V39: =T39+V38 -> 1174009.2 | W39: =U39+W38 -> 0.83572366 | ... Y39: =W39+Y38 -> 1

Sheet Planilha Orçamentária
A1: PREFEITURA MUNICIPAL DE JUÍNA
A2: Obra: Proinfância - Tipo 1 (CRECHE NOSSO LAR) | AK2: ENG. PETERSON FELBER | AM2: PETERSON FELBER ENG. CIVIL CREA MT014468 PERÍODO: 05/11/2019 a 28/07/2020 DATA: 28/07/2020
A3: Preço base: Sinapi outubro/2022 não desonerado | AK3: CREA MT 014468
A4: Local: Rua Pariri, bairro Padre Duílio | E4: BDI: | F4: 0.2223 | AK4: PREFEITURA MUNICIPAL DE JUINA
A5: Cidade: Juína - MT | AE5: DATA: 17/11/2016
D7: Edificação principal do Proinfância 1 | AK7: PERÍODO 23/11/2017 a 07/03/2018
AM8: 1ª MEDIÇÃO | AO8: 2ª MEDIÇÃO | AQ8: 3ª MEDIÇÃO | AS8: ACUMULADO | AU8: SALDO
A9: ITEM | B9: CÓDIGO | C9: FONTE | D9: DESCRIÇÃO DOS SERVIÇOS | E9: UNID. | F9: QUANT. (INICIAL) | G9: QUANT. EXECUTADA | H9: QUANT. Á EXECUTAR | I9: PR. UNIT.(R$) SEM BDI | J9: PR. UNIT.(R$) COM BDI | K9: VALOR (R$) | M9: 1A MEDIÇÃO | O9: 2A MEDIÇÃO | Q9: 3A MEDIÇÃO | S9: 4A MEDIÇÃO | U9: 5A MEDIÇÃO | W9: 6A MEDIÇÃO | Y9: 7A MEDIÇÃO | AA9: 8A MEDIÇÃO | AC9: 9A MEDIÇÃO | AE9: 10A MEDIÇÃO | AG9: 11A MEDIÇÃO | AI9: 12A MEDIÇÃO | AK9: 13A MEDIÇÃO | AM9: % | AN9: R$ | AO9: % | AP9: R$ | AQ9: % | AR9: R$ | AS9: % | AT9: R$ | AU9: % | AV9: R$
M10: % | N10: R$ | O10: % | P10: R$ | Q10: % | R10: R$ | S10: % | T10: R$ | U10: % | V10: R$ | W10: % | X10: R$ | Y10: % | Z10: R$ | AA10: % | AB10: R$ | AC10: % | AD10: R$ | AE10: % | AF10: R$ | AG10: % | AH10: R$ | AI10: % | AJ10: R$ | AK10: % | AL10: R$
A11: 1 | D11: SERVIÇOS PRELIMINARES | L11: =L20 -> #REF!
A12: 1.1 | B12: COMP. PMJ 001 | C12: SINAPI | D12: Placa da obra - padrão Governo Federal (SINAPI 74209/001) | E12: m² | F12: 3.12 | G12: 3.12 | H12: 3.12 | I12: ='Composição Unitária de Preços'!H29 -> 524.05 | J12: =ROUND(I12+I12*F4,2) -> 640.55 | K12: =ROUND(H12*J12,2) -> 1998.52 | L12: =TRUNC(#REF!-(#REF!*0.07),2) -> #REF! | M12: 1 | N12: =M12*K12 -> 1998.52
A13: 1.2 | B13: C2851 | C13: SEINFRA | D13: Instalação provisória de água | E13: un | F13: 0 | G13: Executado 100% - TP 011/2018 - Contato 023/2019 | L13: =TRUNC(#REF!-(#REF!*0.07),2) -> #REF! | M13: 1 | N13: =M13*K13 -> 0
A14: 1.3 | B14: 73960/1 | C14: SINAPI | D14: Instalação provisória de energia elétrica em baixa tensão | E14: un | F14: 0 | G14: Executado 100% - TP 011/2018 - Contato 023/2019 | L14: =TRUNC(#REF!-(#REF!*0.07),2) -> #REF! | M14: 1 | N14: =M14*K14 -> 0
A15: 1.4 | B15: C2849 | C15: SEINFRA | D15: Instalações provisórias de esgoto | E15: un | F15: 0 | G15: Executado 100% - TP 011/2018 - Contato 023/2019 | L15: =TRUNC(#REF!-(#REF!*0.07),2) -> #REF! | M15: 1 | N15: =M15*K15 -> 0
A16: 1.5 | B16: 73805/1 | C16: SINAPI | D16: Barracões provisórios (depósito, escritório, vestiário e refeitório) com piso cimentado | E16: m² | F16: 0 | G16: Executado 100% - TP 011/2018 - Contato 023/2019 | L16: =TRUNC(#REF!-(#REF!*0.07),2) -> #REF! | M16: 1 | N16: =M16*K16 -> 0
A17: 1.6 | B17: 74077/2 | C17: SINAPI | D17: Locação da obra (execução de gabarito) | E17: m² | F17: 0 | G17: Executado 100% - TP 011/2018 - Contato 023/2019 | L17: =TRUNC(#REF!-(#REF!*0.07),2) -> #REF! | M17: 1 | N17: =M17*K17 -> 0
A18: 1.7 | B18: C2290 | C18: SEINFRA | D18: Sondagem do terreno ( um furo de 7m a cada 200 m²) | E18: m | F18: 56 | G18: Executado 100% - TP 011/2018 - Contato 023/2019 | L18: =TRUNC(#REF!-(#REF!*0.07),2) -> #REF! | N18: =M18*K18 -> 0 | AN18: =ROUND(AM18*K18,2) -> 0 | AS18: =AT18/K18 -> #DIV/0! | AT18: =AN18 -> 0 | AU18: =AV18/K18 -> #DIV/0! | AV18: =K18-AT18 -> 0
A19: 1.8 | B19: 74220/1 | C19: SINAPI | D19: Tapume de chapa de madeira compensada, 6mm (40x2,00m, frente do terreno) | E19: m² | F19: 0 | K19: =ROUND(F19*J19,2) -> 0 | L19: =TRUNC(#REF!-(#REF!*0.07),2) -> #REF! | M19: 1 | N19: =M19*K19 -> 0
F20: Subtotal | K20: =SUM(K12:K19) -> 1998.52 | L20: =TRUNC(#REF!-(#REF!*0.07),2) -> #REF! | M20: =N20/K20 -> 1 | N20: =SUM(N12:N19) -> 1998.52 | AM20: =AN20/K20 -> 0 | AN20: =SUM(AN12:AN19) -> 0 | AS20: =AT20/K20 -> 0 | AT20: =SUM(AT12:AT19) -> 0 | AU20: =AV20/K20 -> 0 | AV20: =SUM(AV12:AV19) -> 0
I21: 0 | J21: =TRUNC(I21+(I21*0.243),2) -> 0 | L21: =TRUNC(#REF!-(#REF!*0.07),2) -> #REF!
A22: 2 | D22: MOVIMENTO DE TERRAS PARA FUNDAÇÕES | L22: =L35 -> #REF!
A23: 2.1 | B23: 96995 | C23: SINAPI | D23: Aterro apiloado em camadas de 0,20 m com material argilo - arenoso (entre baldrames) | E23: m³ | F23: 59.69 | G23: 29.85 | H23: 29.84 | I23: 46.85 | J23: =TRUNC(I23*(1+$F$4),2) -> 57.26 | K23: =ROUND(H23*J23,2) -> 1708.64 | L23: =TRUNC(#REF!-(#REF!*0.07),2) -> #REF! | N23: =M23*K23 -> 0 | O23: 0.25 | P23: =O23*K23 -> 427.16 | Q23: 0.55 | R23: =Q23*K23 -> 939.752 | AN23: =ROUND(AM23*K23,2) -> 0 | AO23: 0.5 | AP23: =AO23*K23 -> 854.32 | AR23: =AQ23*K23 -> 0 | AS23: =AT23/K23 -> 0.5 | AT23: =AN23+AP23+AR23 -> 854.32 | AU23: =AV23/K23 -> 0.5 | AV23: =K23-AT23 -> 854.32
A24: 2.2 | B24: 93358 | C24: SINAPI | D24: Escavação manual de valas em qualquer terreno exceto rocha até h=1,50 m | E24: m³ | F24: 14.69 | G24: Executado 100% - TP 011/2018 - Contato 023/2019 | L24: =TRUNC(#REF!-(#REF!*0.07),2) -> #REF! | M24: 0.2 | N24: =M24*K24 -> 0 | O24: 0.4 | P24: =O24*K24 -> 0 | Q24: 0.3 | R24: =Q24*K24 -> 0 | AN24: =ROUND(AM24*K24,2) -> 0 | AO24: 1 | AP24: =AO24*K24 -> 0 | AR24: =AQ24*K24 -> 0 | AS24: =AT24/K24 -> #DIV/0! | AT24: =AN24+AP24+AR24 -> 0 | AU24: =AV24/K24 -> #DIV/0! | AV24: =K24-AT24 -> 0
A25: 2.3 | B25: 94097 | C25: SINAPI | D25: Regularização e compactação do fundo de valas | E25: m² | F25: 29.85 | G25: Executado 100% - TP 011/2018 - Contato 023/2019 | L25: =TRUNC(#REF!-(#REF!*0.07),2) -> #REF! | M25: 0.2 | N25: =M25*K25 -> 0 | O25: 0.4 | P25: =O25*K25 -> 0 | Q25: 0.3 | R25: =Q25*K25 -> 0 | AN25: =ROUND(AM25*K25,2) -> 0 | AO25: 1 | AP25: =AO25*K25 -> 0 | AR25: =AQ25*K25 -> 0 | AS25: =AT25/K25 -> #DIV/0! | AT25: =AN25+AP25+AR25 -> 0 | AU25: =AV25/K25 -> #DIV/0! | AV25: =K25-AT25 -> 0
A26: 2.4 | B26: 96995 | C26: SINAPI | D26: Reaterro apiloado de vala com material da obra | E26: m³ | F26: 9.88 | G26: Executado 100% - TP 011/2018 - Contato 023/2019 | L26: =TRUNC(#REF!-(#REF!*0.07),2) -> #REF! | N26: =M26*K26 -> 0 | O26: 0.6 | P26: =O26*K26 -> 0 | Q26: 0.3 | R26: =Q26*K26 -> 0 | AN26: =ROUND(AM26*K26,2) -> 0 | AO26: 1 | AP26: =AO26*K26 -> 0 | AR26: =AQ26*K26 -> 0 | AS26: =AT26/K26 -> #DIV/0! | AT26: =AN26+AP26+AR26 -> 0 | AU26: =AV26/K26 -> #DIV/0! | AV26: =K26-AT26 -> 0
D27: MURETA | F27: 0 | I27: 0 | J27: =TRUNC(I27*(1+$F$4),2) -> 0 | K27: =ROUND(F27*J27,2) -> 0 | L27: =TRUNC(#REF!-(#REF!*0.07),2) -> #REF!
A28: 2.5 | B28: =B24 -> 93358 | C28: SINAPI | D28: Escavação manual de valas em qualquer terreno exceto rocha até h=1,50 m | E28: m³ | F28: 11.26 | G28: 9 | H28: 2.26 | I28: 76.94 | J28: =TRUNC(I28*(1+$F$4),2) -> 94.04 | K28: =ROUND(H28*J28,2) -> 212.53 | L28: =TRUNC(#REF!-(#REF!*0.07),2) -> #REF! | N28: =M28*K28 -> 0 | P28: =O28*K28 -> 0 | R28: =Q28*K28 -> 0 | AN28: =ROUND(AM28*K28,2) -> 0 | AO28: 0.8 | AP28: =AO28*K28 -> 170.024 | AR28: =AQ28*K28 -> 0 | AS28: =AT28/K28 -> 0.8 | AT28: =AN28+AP28+AR28 -> 170.024 | AU28: =AV28/K28 -> 0.2 | AV28: =K28-AT28 -> 42.506
A29: 2.6 | B29: 101616 | C29: SINAPI | D29: Regularização e compactação do fundo de valas | E29: m² | F29: 17.74 | G29: 14.19 | H29: 3.55 | I29: 5.63 | J29: =TRUNC(I29*(1+$F$4),2) -> 6.88 | K29: =ROUND(H29*J29,2) -> 24.42 | L29: =TRUNC(#REF!-(#REF!*0.07),2) -> #REF! | N29: =M29*K29 -> 0 | P29: =O29*K29 -> 0 | R29: =Q29*K29 -> 0 | AN29: =ROUND(AM29*K29,2) -> 0 | AO29: 0.8 | AP29: =AO29*K29 -> 19.536 | AR29: =AQ29*K29 -> 0 | AS29: =AT29/K29 -> 0.8 | AT29: =AN29+AP29+AR29 -> 19.536 | AU29: =AV29/K29 -> 0.2 | AV29: =K29-AT29 -> 4.884
A30: 2.7 | B30: =B26 -> 96995 | C30: SINAPI | D30: Reaterro apiloado de vala com material da obra | E30: m³ | F30: 6.39 | G30: 5.11 | H30: 1.28 | I30: 46.65 | J30: =TRUNC(I30*(1+$F$4),2) -> 57.02 | K30: =ROUND(H30*J30,2) -> 72.99 | L30: =TRUNC(#REF!-(#REF!*0.07),2) -> #REF! | N30: =M30*K30 -> 0 | P30: =O30*K30 -> 0 | R30: =Q30*K30 -> 0 | AN30: =ROUND(AM30*K30,2) -> 0 | AO30: 0.8 | AP30: =AO30*K30 -> 58.392 | AR30: =AQ30*K30 -> 0 | AS30: =AT30/K30 -> 0.8 | AT30: =AN30+AP30+AR30 -> 58.392 | AU30: =AV30/K30 -> 0.2 | AV30: =K30-AT30 -> 14.598
D31: CASTELO D'ÁGUA | F31: 0 | I31: 0 | J31: =TRUNC(I31+(I31*0.243),2) -> 0 | K31: =ROUND(F31*J31,2) -> 0 | L31: =TRUNC(#REF!-(#REF!*0.07),2) -> #REF!
A32: 2.8 | C32: SINAPI | D32: Escavação manual de valas em qualquer terreno exceto rocha até h=1,50 m | E32: m³ | F32: 0 | J32: =TRUNC(I32+(I32*0.243),2) -> 0 | K32: =ROUND(F32*J32,2) -> 0 | L32: =TRUNC(#REF!-(#REF!*0.07),2) -> #REF! | M32: 0.3 | N32: =M32*K32 -> 0 | P32: =O32*K32 -> 0 | Q32: 0.7 | R32: =Q32*K32 -> 0
A33: 2.9 | C33: SINAPI | D33: Regularização e compactação do fundo de valas | E33: m² | F33: 0 | J33: =TRUNC(I33+(I33*0.243),2) -> 0 | K33: =ROUND(F33*J33,2) -> 0 | L33: =TRUNC(#REF!-(#REF!*0.07),2) -> #REF! | M33: 0.3 | N33: =M33*K33 -> 0 | P33: =O33*K33 -> 0 | Q33: 0.7 | R33: =Q33*K33 -> 0
A34: 2.10 | C34: SINAPI | D34: Reaterro apiloado de vala com material da obra | E34: m³ | F34: 0 | J34: =TRUNC(I34+(I34*0.243),2) -> 0 | K34: =ROUND(F34*J34,2) -> 0 | L34: =TRUNC(#REF!-(#REF!*0.07),2) -> #REF! | M34: 0.3 | N34: =M34*K34 -> 0 | P34: =O34*K34 -> 0 | Q34: 0.7 | R34: =Q34*K34 -> 0
F35: Subtotal | K35: =SUM(K23:K34) -> 2018.58 | L35: =TRUNC(#REF!-(#REF!*0.07),2) -> #REF! | M35: =N35/K35 -> 0 | N35: =SUM(N23:N34) -> 0 | O35: =P35/K35 -> 0.2116141 | P35: =SUM(P23:P34) -> 427.16 | Q35: =R35/K35 -> 0.46555103 | R35: =SUM(R23:R34) -> 939.752 | AM35: =AN35/K35 -> 0 | AN35: =SUM(AN23:AN34) -> 0 | AO35: =AP35/K35 -> 0.54606307 | AP35: =SUM(AP23:AP34) -> 1102.272 | AS35: =AT35/K35 -> 0.54606307 | AT35: =SUM(AT23:AT34) -> 1102.272 | AU35: =AV35/K35 -> 0.45393693 | AV35: =SUM(AV23:AV34) -> 916.308
I36: 0 | J36: =TRUNC(I36+(I36*0.243),2) -> 0 | L36: =TRUNC(#REF!-(#REF!*0.07),2) -> #REF!
A37: 3 | D37: FUNDAÇÕES | L37: =L68 -> #REF!
D38: CONCRETO ARMADO PARA FUNDAÇÕES - SAPATAS | I38: 0 | J38: =TRUNC(I38*(1+$F$4),2) -> 0 | L38: =TRUNC(#REF!-(#REF!*0.07),2) -> #REF!
A39: 3.1 | B39: 95240 | C39: SINAPI | D39: Lastro de concreto magro (e=3,0 cm) - preparo mecânico | E39: m² | F39: 3.27 | G39: Executado 100% - TP 011/2018 - Contato 023/2019 | L39: =TRUNC(#REF!-(#REF!*0.07),2) -> #REF! | M39: 0.3 | N39: =M39*K39 -> 0 | O39: 0.5 | P39: =O39*K39 -> 0 | Q39: 0.15 | R39: =Q39*K39 -> 0 | AG39: 0.02 | AH39: =AG39*K39 -> 0 | AN39: =ROUND(AM39*K39,2) -> 0 | AO39: 1 | AP39: =AO39*K39 -> 0 | AR39: =AQ39*K39 -> 0 | AS39: =AT39/K39 -> #DIV/0! | AT39: =AN39+AP39+AR39 -> 0 | AU39: =AV39/K39 -> #DIV/0! | AV39: =K39-AT39 -> 0
A40: 3.2 | B40: 96535 | C40: SINAPI | D40: Forma de madeira comum para Fundações - reaproveitamento 10X | E40: m² | F40: 5.81 | G40: Executado 100% - TP 011/2018 - Contato 023/2019 | L40: =TRUNC(#REF!-(#REF!*0.07),2) -> #REF! | M40: 0.3 | N40: =M40*K40 -> 0 | O40: 0.5 | P40: =O40*K40 -> 0 | Q40: 0.15 | R40: =Q40*K40 -> 0 | AG40: 0.02 | AH40: =AG40*K40 -> 0 | AN40: =ROUND(AM40*K40,2) -> 0 | AO40: 1 | AP40: =AO40*K40 -> 0 | AR40: =AQ40*K40 -> 0 | AS40: =AT40/K40 -> #DIV/0! | AT40: =AN40+AP40+AR40 -> 0 | AU40: =AV40/K40 -> #DIV/0! | AV40: =K40-AT40 -> 0
A41: 3.3 | B41: 92917 | C41: SINAPI | D41: Armação aço CA-50, Diam. 6,3 (1/4) á 12,5mm(1/2) -Fornecimento/corte perda de 10%) / dobra / colocação. | E41: kg | F41: 39.06 | G41: Executado 100% - TP 011/2018 - Contato 023/2019 | L41: =TRUNC(#REF!-(#REF!*0.07),2) -> #REF! | M41: 0.3 | N41: =M41*K41 -> 0 | O41: 0.5 | P41: =O41*K41 -> 0 | Q41: 0.15 | R41: =Q41*K41 -> 0 | AG41: 0.02 | AH41: =AG41*K41 -> 0 | AN41: =ROUND(AM41*K41,2) -> 0 | AO41: 1 | AP41: =AO41*K41 -> 0 | AR41: =AQ41*K41 -> 0 | AS41: =AT41/K41 -> #DIV/0! | AT41: =AN41+AP41+AR41 -> 0 | AU41: =AV41/K41 -> #DIV/0! | AV41: =K41-AT41 -> 0
...

Sheet Composição Unitária de Preços
B1: PREFEITURA MUNICIPAL DE JUÍNA
B2: CNPJ: 15.359.201/0001-57
B3: Travessa Emmanuel, nº 33N, Centro, Juína-MT
B6: PROPRIETÁRIO: | D6: =[7]Resumo!B6 -> PREFEITURA MUNICIPAL DE JUÍNA
B7: LOCAL: | D7: RUA PARIRI - BAIRRO PADRE DUÍLIO
B8: OBRA: | D8: PROINFÂNCIA - TIPO 1 - CRECHE NOSSO LAR
B9: DATA: | D9: 25 DE NOVEMBRO DE 2022
B10: REFERÊNCIA SINAPI DE OUTUBRO/2022 - NÃO DESONERADO
B11: COMPOSIÇÃO UNITÁRIA DE PREÇO
B14: ITEM | C14: CÓDIGO | D14: DESCRIÇÃO DO SERVIÇO | E14: UNID. | F14: QUANT. | G14: VALOR UNITÁRIO | H14: VALOR TOTAL
B16: 1.0 - ADMINISTRAÇÃO LOCAL DA OBRA
B17: 2.0 - SERVIÇOS PRELIMINARES
B18: ='Planilha Orçamentária'!A12 -> 1.1 | C18: COMP. PMJ 001 | D18: PLACA DE OBRA EM CHAPA DE AÇO GALVANIZADO (REF. SINAPI 11/2019 - 74209/001) | E18: m²
B19: 4417 | C19: INSUMO | D19: SARRAFO DE MADEIRA NÃO APARELHADA*2,5 X 7* CM, MAÇARAMDUBA, ANGELIN OU EQUIVALENTE DA REGIÃO | E19: m | F19: 1 | G19: 6.93 | H19: =TRUNC(F19*G19,2) -> 6.93
B20: 4491 | C20: INSUMO | D20: PONTALETE DE MADEIRA NÃO APARELHADA *7,5 X 7,5* CM (3X3'') PINUS, MISTA OU EQUIVALENTE DA REGIÃO | E20: m | F20: 4 | G20: 11.67 | H20: =TRUNC(F20*G20,2) -> 46.68
B21: 4813 | C21: INSUMO | D21: PLACA DE OBRA (PARA CONSTRUÇÃO CIVIL) EM CHAPA GALVANIZADA *N. 22*, ADESIVADA, DE *2,0 X 1,125* M | E21: m² | F21: 1 | G21: 400 | H21: =TRUNC(F21*G21,2) -> 400
B22: 5075 | C22: INSUMO | D22: PREGO DE AÇO POLIDO COM CABEÇA 18 X 30 (2 3/4 X 10) | E22: kg | F22: 0.11 | G22: 25.89 | H22: =TRUNC(F22*G22,2) -> 2.84
B23: 88262 | C23: MÃO DE OBRA | D23: CARPINTEIRO DE FORMAS COM ENCARGOS COMPLEMENTARES | E23: H | F23: 1 | G23: 24.32 | H23: =TRUNC(F23*G23,2) -> 24.32
B24: 88316 | C24: MÃO DE OBRA | D24: SERVENTE COM ENCARGOS COMPLEMENTARES | E24: H | F24: 2 | G24: 19.45 | H24: =TRUNC(F24*G24,2) -> 38.9
B25: 94962 | C25: COMPOSIÇÃO | D25: CONCRETO MAGRO PARA LASTRO, TRAÇO 1:4,5:4,5 (CIMENTO, AREIA MÉDIA/ BRITA 1) - PREPARO MECÂNICO COM BETONEIRA 400 L. AF_07/2016. | E25: m³ | F25: 0.01 | G25: 438.71 | H25: =TRUNC(F25*G25,2) -> 4.38
B27: TOTAL MATERIAL | H27: =H19+H20+H21+H25+H22 -> 460.83
B28: TOTAL MÃO DE OBRA | H28: =H23+H24 -> 63.22
B29: TOTAL DO ITEM | H29: =TRUNC(H27+H28,2) -> 524.05
B31: ='Planilha Orçamentária'!A146 -> 6.37 | C31: COMP. PMJ 002 | D31: ESPELHO CRISTAL ESP. 4 MM SEM MOLDURA DE MADEIRA (REF. SINAPI 05/2018 - 85005) | E31: m²
B32: 442 | C32: INSUMO | D32: PARAFUSO FRANCES M16 EM AÇO GALVANIZADO, COMPRIMENTO = 45 MM, DIÂMETRO = 16 MM, CABEÇA ABAULADA | E32: und | F32: 4 | G32: 5.79 | H32: =TRUNC(F32*G32,2) -> 23.16
B33: 11186 | C33: INSUMO | D33: ESPELHO CRISTAL ESP. 4 MM | E33: m² | F33: 1 | G33: 668.87 | H33: =TRUNC(F33*G33,2) -> 668.87
B34: 88316 | C34: MÃO DE OBRA | D34: SERVENTE COM ENCARGOS COMPLEMENTARES | E34: H | F34: 0.4 | G34: 19.45 | H34: =TRUNC(F34*G34,2) -> 7.78
B35: 88325 | C35: MÃO DE OBRA | D35: VIDRACEIRO COM ENCARGOS COMPLEMENTARES | E35: H | F35: 2 | G35: 21.78 | H35: =TRUNC(F35*G35,2) -> 43.56
B37: TOTAL MATERIAL | H37: =H32+H33 -> 692.03
B38: TOTAL MÃO DE OBRA | H38: =H34+H35 -> 51.34
B39: TOTAL DO ITEM | H39: =TRUNC(H37+H38,2) -> 743.37
B41: ='Planilha Orçamentária'!A149 -> 6.39 | C41: COMP. PMJ 003 | D41: ='Planilha Orçamentária'!D149 -> Portão de abrir com gradil metálico e tela de aço galvanizado, inclusive pintura - fornecimento e instalação (referência 74238/2) | E41: m²
B42: 7167 | C42: INSUMO | D42: TELA DE ARAME GALV QUADRANGULAR / LOSANGULAR, FIO 2,11 MM (14 BWG), MALHA 5 X 5 CM, H = 2 M | E42: M² | F42: 1.1 | G42: 30.51 | H42: =TRUNC(F42*G42,2) -> 33.56
B43: 7697 | C43: INSUMO | D43: TUBO ACO GALVANIZADO COM COSTURA, CLASSE MEDIA, DN 1.1/2", E = *3,25* MM, PESO *3,61* KG/M (NBR 5580) | E43: m | F43: 1.4318 | G43: 57.67 | H43: =TRUNC(F43*G43,2) -> 82.57
B44: 10997 | C44: INSUMO | D44: ELETRODO REVESTIDO AWS - E7018, DIAMETRO IGUAL A 4,00 MM | E44: KG | F44: 3.37 | G44: 29.77 | H44: =TRUNC(F44*G44,2) -> 100.32
B45: 21010 | C45: INSUMO | D45: TUBO ACO GALVANIZADO COM COSTURA, CLASSE LEVE, DN 25 MM ( 1"), E = 2,65 MM, *2,11* KG/M (NBR 5580) | E45: M | F45: 6.7407 | G45: 35.77 | H45: =TRUNC(F45*G45,2) -> 241.11
B46: 83765 | C46: COMPOSIÇÃO | D46: GRUPO DE SOLDAGEM COM GERADOR A DIESEL 60 CV PARA SOLDA ELÉTRICA, SOBRE 04 RODAS, COM MOTOR 4 CILINDROS 600 A - CHP DIURNO. AF_02/2016 | E46: CHP | F46: 3.82 | G46: 99.55 | H46: =TRUNC(F46*G46,2) -> 380.28
B47: 83766 | C47: COMPOSIÇÃO | D47: GRUPO DE SOLDAGEM COM GERADOR A DIESEL 60 CV PARA SOLDA ELÉTRICA, SOBRE 04 RODAS, COM MOTOR 4 CILINDROS 600 A - CHI DIURNO. AF_02/2016 | E47: CHI | F47: 0.67 | G47: 35.65 | H47: =TRUNC(F47*G47,2) -> 23.88
B48: 88315 | C48: MÃO DE OBRA | D48: SERRALHEIRO COM ENCARGOS COMPLEMENTARES | E48: H | F48: 7 | G48: 24.44 | H48: =TRUNC(F48*G48,2) -> 171.08
B49: 88316 | C49: MÃO DE OBRA | D49: SERVENTE COM ENCARGOS COMPLEMENTARES | E49: H | F49: 11.5 | G49: 19.45 | H49: =TRUNC(F49*G49,2) -> 223.67
...

Sheet BDI 
B2: =1+K16/100+K18/100+K19/100+K20/100 -> 1.0607
B3: =1+K17/100 -> 1.0123
E5: ='Planilha Orçamentária'!A1 -> PREFEITURA MUNICIPAL DE JUÍNA | H5: Ref.: Tabela de Serviços SINAPI (MAIOL/2018) COM DESONERAÇÃO e/ou SEINFRA E ORSE
H6: BDI | I6: =K32 -> 0.22226164
E7: COMPOSIÇÃO DE BDI
E9: OBRA: | F9: Proinfância - Tipo 1 (CRECHE NOSSO LAR) | K9: DATA: | L9: 43277
E10: LOCAL: | F10: Rua Pariri, bairro Padre Duílio, Juína-MT | J10: LEIS SOCIAIS: | L10: ='[8]ORÇAMENTO '!J8 -> 0.9001
E12: BDI
E13: ITEM | F13: DISCRIMINAÇÃO | K13: PERCENTUAL
K14: ( % )
B15: MAX | C15: MIN | E15: 1 | F15: ADMINISTRAÇÃO DA OBRA | K15: =K16+K17+K18+K19+K20 -> 7.3
B16: 5.5 | C16: 3 | E16: 1.1 | F16: AC - Administração Central | K16: 4 | N16: =1+K16/100+K18/100+K19/100+K20/100 -> 1.0607
B17: 1.39 | C17: 0.59 | E17: 1.2 | F17: DF - Custos Financeiras | K17: 1.23 | N17: =1+K22/100 -> 1.074
B18: 1.27 | C18: 0.97 | E18: 1.3 | F18: C - Riscos | K18: 1.27 | N18: =1+K17/100 -> 1.0123
E19: 1.4 | F19: SG - Seguros e Garantias | K19: 0.8 | N19: =1-K25/100 -> 0.9435
N20: =N16*N17*N18/N19 -> 1.2222616
N21: =N20-1 -> 0.22226164
E22: 2.0 | F22: LUCRO | K22: =K23 -> 7.4
B23: 8.96 | C23: 6.16 | E23: 2.1 | F23: L - Lucro Operacional | K23: 7.4
E25: 3.0 | F25: TRIBUTOS | K25: =K26+K27+K28+K29 -> 5.65
E26: 3.1 | F26: **ISS | K26: 2
B27: =1+K23/100 -> 1.074 | E27: 3.2 | F27: Cofins | K27: 3
B28: =1-K25/100 -> 0.9435 | E28: 3.3 | F28: Pis | K28: 0.65
B29: =B2*B3*B27 -> 1.1532039 | E29: 3.4 | F29: Contribuição Previdenciária - Lei nº 12.546/13 | K29: 0
B30: =B29/B28 -> 1.2222616 | E30: **ISS - Repassado pelo município
B31: =B30-1 -> 0.22226164 | E31: Segundo o que determina a lei nº 8.666/93, admite-se fixar o percentual de BDI, dede que seguindo as técnicas da Engenharia e Custos.
B32: =B31 -> 0.22226164 | E32: TAXA DE BDI A SER APLICADA SOBRE O CUSTO DIRETO | K32: =N21 -> 0.22226164
E34: VALOR DA OBRA | K34: ='Planilha Orçamentária'!K612 -> 1404781.6
E35: Não incidem IRPJ e CSLL na composição de Tributos.
E36: CÁLCULO DO BDI
F38: BDI = | G38: ( 1 + AC + S + R + G ) ( 1 + DF ) ( 1 + L ) | K38: -1
G39: (1-I)
F41: **ISS - Imposto Sobre Serviços
F42: 0.05 | G42: ISS - Repassado pelo município
F44: 0.4 | G44: % SOBRE MÃO DE OBRA

Sheet serviços
A2: 97141 | B2: ASSENTAMENTO DE TUBO DE FERRO FUNDIDO PARA REDE DE ÁGUA, DN 80 MM, JUNTA ELÁSTICA, INSTALADO EM LOCAL COM NÍVEL ALTO DE INTERFERÊNCIAS (NÃO INCLUI FORNECIMENTO). AF_11/2017 | C2: M | D2: 5.37
A3: 97142 | B3: ASSENTAMENTO DE TUBO DE FERRO FUNDIDO PARA REDE DE ÁGUA, DN 100 MM, JUNTA ELÁSTICA, INSTALADO EM LOCAL COM NÍVEL ALTO DE INTERFERÊNCIAS (NÃO INCLUI FORNECIMENTO). AF_11/2017 | C3: M | D3: 5.97
A4: 97143 | B4: ASSENTAMENTO DE TUBO DE FERRO FUNDIDO PARA REDE DE ÁGUA, DN 150 MM, JUNTA ELÁSTICA, INSTALADO EM LOCAL COM NÍVEL ALTO DE INTERFERÊNCIAS (NÃO INCLUI FORNECIMENTO). AF_11/2017 | C4: M | D4: 7.52
A5: 97144 | B5: ASSENTAMENTO DE TUBO DE FERRO FUNDIDO PARA REDE DE ÁGUA, DN 200 MM, JUNTA ELÁSTICA, INSTALADO EM LOCAL COM NÍVEL ALTO DE INTERFERÊNCIAS (NÃO INCLUI FORNECIMENTO). AF_11/2017 | C5: M | D5: 9.05
A6: 97145 | B6: ASSENTAMENTO DE TUBO DE FERRO FUNDIDO PARA REDE DE ÁGUA, DN 250 MM, JUNTA ELÁSTICA, INSTALADO EM LOCAL COM NÍVEL ALTO DE INTERFERÊNCIAS (NÃO INCLUI FORNECIMENTO). AF_11/2017 | C6: M | D6: 10.61
A7: 97146 | B7: ASSENTAMENTO DE TUBO DE FERRO FUNDIDO PARA REDE DE ÁGUA, DN 300 MM, JUNTA ELÁSTICA, INSTALADO EM LOCAL COM NÍVEL ALTO DE INTERFERÊNCIAS (NÃO INCLUI FORNECIMENTO). AF_11/2017 | C7: M | D7: 12.17
A8: 97147 | B8: ASSENTAMENTO DE TUBO DE FERRO FUNDIDO PARA REDE DE ÁGUA, DN 350 MM, JUNTA ELÁSTICA, INSTALADO EM LOCAL COM NÍVEL ALTO DE INTERFERÊNCIAS (NÃO INCLUI FORNECIMENTO). AF_11/2017 | C8: M | D8: 13.72
A9: 97148 | B9: ASSENTAMENTO DE TUBO DE FERRO FUNDIDO PARA REDE DE ÁGUA, DN 400 MM, JUNTA ELÁSTICA, INSTALADO EM LOCAL COM NÍVEL ALTO DE INTERFERÊNCIAS (NÃO INCLUI FORNECIMENTO). AF_11/2017 | C9: M | D9: 15.28
A10: 97149 | B10: ASSENTAMENTO DE TUBO DE FERRO FUNDIDO PARA REDE DE ÁGUA, DN 450 MM, JUNTA ELÁSTICA, INSTALADO EM LOCAL COM NÍVEL ALTO DE INTERFERÊNCIAS (NÃO INCLUI FORNECIMENTO). AF_11/2017 | C10: M | D10: 16.84
A11: 97150 | B11: ASSENTAMENTO DE TUBO DE FERRO FUNDIDO PARA REDE DE ÁGUA, DN 500 MM, JUNTA ELÁSTICA, INSTALADO EM LOCAL COM NÍVEL ALTO DE INTERFERÊNCIAS (NÃO INCLUI FORNECIMENTO). AF_11/2017 | C11: M | D11: 20.72
A12: 97151 | B12: ASSENTAMENTO DE TUBO DE FERRO FUNDIDO PARA REDE DE ÁGUA, DN 600 MM, JUNTA ELÁSTICA, INSTALADO EM LOCAL COM NÍVEL ALTO DE INTERFERÊNCIAS (NÃO INCLUI FORNECIMENTO). AF_11/2017 | C12: M | D12: 24.17
A13: 97152 | B13: ASSENTAMENTO DE TUBO DE FERRO FUNDIDO PARA REDE DE ÁGUA, DN 700 MM, JUNTA ELÁSTICA, INSTALADO EM LOCAL COM NÍVEL ALTO DE INTERFERÊNCIAS (NÃO INCLUI FORNECIMENTO). AF_11/2017 | C13: M | D13: 27.46
... A250: 83535 | B250: CURVA PVC PARA REDE COLETOR ESGOTO, EB-644, 45 GR, 200 MM, COM JUNTA ELASTICA. | C250: UN | D250: 228.79
A251: 73884/1 | B251: INSTALAÇÃO DE VÁLVULAS OU REGISTROS COM JUNTA FLANGEADA - DN 50 | C251: UN | D251: 40.04
A252: 73884/2 | B252: INSTALAÇÃO DE VÁLVULAS OU REGISTROS COM JUNTA FLANGEADA - DN 75 | C252: UN | D252: 68.45
A253: 73884/3 | B253: INSTALAÇÃO DE VÁLVULAS OU REGISTROS COM JUNTA FLANGEADA - DN 100 | C253: UN | D253: 85.58
A254: 73884/4 | B254: INSTALAÇÃO DE VÁLVULAS OU REGISTROS COM JUNTA FLANGEADA - DN 150 | C254: UN | D254: 443.74
A255: 73884/5 | B255: INSTALAÇÃO DE VÁLVULAS OU REGISTROS COM JUNTA FLANGEADA - DN 200 | C255: UN | D255: 517.7
A256: 73884/6 | B256: INSTALAÇÃO DE VÁLVULAS OU REGISTROS COM JUNTA FLANGEADA - DN 250 | C256: UN | D256: 628.64
A257: 73884/7 | B257: INSTALAÇÃO DE VÁLVULAS OU REGISTROS COM JUNTA FLANGEADA - DN 300 | C257: UN | D257: 702.6
A258: 73884/8 | B258: INSTALAÇÃO DE VÁLVULAS OU REGISTROS COM JUNTA FLANGEADA - DN 350 | C258: UN | D258: 739.6
A259: 73884/9 | B259: INSTALAÇÃO DE VÁLVULAS OU REGISTROS COM JUNTA FLANGEADA - DN 400 | C259: UN | D259: 813.54
A260: 73884/10 | B260: INSTALAÇÃO DE VÁLVULAS OU REGISTROS COM JUNTA FLANGEADA - DN 450 | C260: UN | D260: 850.53
A261: 73884/11 | B261: INSTALAÇÃO DE VÁLVULAS OU REGISTROS COM JUNTA FLANGEADA - DN 500 | C261: UN | D261: 924.5
A262: 73884/12 | B262: INSTALAÇÃO DE VÁLVULAS OU REGISTROS COM JUNTA FLANGEADA - DN 600 | C262: UN | D262: 998.44
... A278: 73885/12 | B278: INSTALAÇÃO DE VÁLVULAS OU REGISTROS COM JUNTA ELÁSTICA - DN 600 | C278: UN | D278: 421.55
A279: 92235 | B279: FECHAMENTO DE CONSTRUÇÃO TEMPORÁRIA EM CHAPA DE MADEIRA COMPENSADA E=10MM, COM REAPROVEITAMENTO DE 2X. | C279: M2 | D279: 49.86
A280: 93206 | B280: EXECUÇÃO DE ESCRITÓRIO EM CANTEIRO DE OBRA EM ALVENARIA, NÃO INCLUSO MOBILIÁRIO E EQUIPAMENTOS. AF_02/2016 | C280: M2 | D280: 718.63
A281: 93207 | B281: EXECUÇÃO DE ESCRITÓRIO EM CANTEIRO DE OBRA EM CHAPA DE MADEIRA COMPENSADA, NÃO INCLUSO MOBILIÁRIO E EQUIPAMENTOS. AF_02/2016 | C281: M2 | D281: 597.56
A282: 93208 | B282: EXECUÇÃO DE ALMOXARIFADO EM CANTEIRO DE OBRA EM CHAPA DE MADEIRA COMPENSADA, INCLUSO PRATELEIRAS. AF_02/2016 | C282: M2 | D282: 435.46
A283: 93209 | B283: EXECUÇÃO DE ALMOXARIFADO EM CANTEIRO DE OBRA EM ALVENARIA, INCLUSO PRATELEIRAS. AF_02/2016 | C283: M2 | D283: 551.62
A284: 93210 | B284: EXECUÇÃO DE REFEITÓRIO EM CANTEIRO DE OBRA EM CHAPA DE MADEIRA COMPENSADA, NÃO INCLUSO MOBILIÁRIO E EQUIPAMENTOS. AF_02/2016 | C284: M2 | D284: 325.77
A285: 93211 | B285: EXECUÇÃO DE REFEITÓRIO EM CANTEIRO DE OBRA EM ALVENARIA, NÃO INCLUSO MOBILIÁRIO E EQUIPAMENTOS. AF_02/2016 | C285: M2 | D285: 349.38
A286: 93212 | B286: EXECUÇÃO DE SANITÁRIO E VESTIÁRIO EM CANTEIRO DE OBRA EM CHAPA DE MADEIRA COMPENSADA, NÃO INCLUSO MOBILIÁRIO. AF_02/2016 | C286: M2 | D286: 556.93
A287: 93213 | B287: EXECUÇÃO DE SANITÁRIO E VESTIÁRIO EM CANTEIRO DE OBRA EM ALVENARIA, NÃO INCLUSO MOBILIÁRIO. AF_02/2016 | C287: M2 | D287: 658.07
A288: 93214 | B288: EXECUÇÃO DE RESERVATÓRIO ELEVADO DE ÁGUA (1000 LITROS) EM CANTEIRO DE OBRA, APOIADO EM ESTRUTURA DE MADEIRA. AF_02/2016 | C288: UN | D288: 2624.03
A289: 93243 | B289: EXECUÇÃO DE RESERVATÓRIO ELEVADO DE ÁGUA (2000 LITROS) EM CANTEIRO DE OBRA, APOIADO EM ESTRUTURA DE MADEIRA. AF_02/2016 | C289: UN | D289: 4013.16
A290: 93582 | B290: EXECUÇÃO DE CENTRAL DE ARMADURA EM CANTEIRO DE OBRA, NÃO INCLUSO MOBILIÁRIO E EQUIPAMENTOS. AF_04/2016 | C290: M2 | D290: 150.79
... A314: 98462 | B314: ESTRUTURA DE MADEIRA PROVISÓRIA PARA SUPORTE DE CAIXA DÁGUA ELEVADA DE 3000 LITROS. AF_05/2018 | C314: UN | D314: 3120.76
A315: 74209/1 | B315: PLACA DE OBRA EM CHAPA DE ACO GALVANIZADO | C315: M2 | D315: 469.13
...
